BEGIN:VCALENDAR
VERSION:2.0
PRODID:-//wp-events-plugin.com//7.2.3.1//EN
BEGIN:VEVENT
UID:399@carus-management.de
DTSTART:20180908T080000Z
DTEND:20180908T130000Z
DTSTAMP:20180702T085335Z
URL:https://www.carus-management.de/veranstaltungen/neu-msz-multiple-skler
 ose-tag/
SUMMARY:NEU-MSZ - Multiple Sklerose Tag
DESCRIPTION:Flyer_Programm_MS_Tag_2018_2
END:VEVENT
END:VCALENDAR