BEGIN:VCALENDAR
VERSION:2.0
PRODID:-//wp-events-plugin.com//7.2.3.1//EN
BEGIN:VEVENT
UID:719@carus-management.de
DTSTART:20200702T170000Z
DTEND:20200702T200000Z
DTSTAMP:20200610T123616Z
URL:https://www.carus-management.de/veranstaltungen/neu-msz-multiple-skler
 ose-e-fallkonferenz-immunstatus/
SUMMARY:NEU-MSZ - Multiple Sklerose E-Fallkonferenz: "Immunstatus"
DESCRIPTION:Flyer E-Fallkonferenz 020720_final
END:VEVENT
END:VCALENDAR