BEGIN:VCALENDAR
VERSION:2.0
PRODID:-//wp-events-plugin.com//7.2.3.1//EN
BEGIN:VEVENT
UID:718@carus-management.de
DTSTART:20200507T170000Z
DTEND:20200507T200000Z
DTSTAMP:20200505T122919Z
URL:https://www.carus-management.de/veranstaltungen/neu-msz-multiple-skler
 ose-e-fallkonferenz-covid-19/
SUMMARY:NEU-MSZ -  Multiple Sklerose E-Fallkonferenz: "COVID-19"
DESCRIPTION:Flyer E-Fallkonferenz 2020_final_07.05.20
END:VEVENT
END:VCALENDAR