BEGIN:VCALENDAR
VERSION:2.0
PRODID:-//wp-events-plugin.com//7.2.3.1//EN
BEGIN:VEVENT
UID:915@carus-management.de
DTSTART:20211207T170000Z
DTEND:20211207T200000Z
DTSTAMP:20211201T095610Z
URL:https://www.carus-management.de/veranstaltungen/neu-msz-ms-tag-1-teil-
 virtuell/
SUMMARY:NEU-MSZ - "Weihnachtsspecial" zum MS-Tag 1. Teil - virtuell
DESCRIPTION:Flyer_MS-Tag_07.+09.12.21
END:VEVENT
END:VCALENDAR