BEGIN:VCALENDAR
VERSION:2.0
PRODID:-//wp-events-plugin.com//7.2.3.1//EN
BEGIN:VEVENT
UID:764@carus-management.de
DTSTART:20201125T160000Z
DTEND:20201125T193000Z
DTSTAMP:20201112T111748Z
URL:https://www.carus-management.de/veranstaltungen/neu-msz-fortbildungsre
 ihe-neurologie-multiple-sklerose-digital-2/
SUMMARY:NEU-MSZ - Fortbildungsreihe Neurologie-Multiple Sklerose - digital
DESCRIPTION:Fortbildung UKD MS_25.11.2020
LOCATION:virtuelle Veranstaltung\,  \,  \, Deutschland
X-APPLE-STRUCTURED-LOCATION;VALUE=URI;X-ADDRESS= \,  \, Deutschland;X-APPLE
 -RADIUS=100;X-TITLE=virtuelle Veranstaltung:geo:0,0
END:VEVENT
END:VCALENDAR