BEGIN:VCALENDAR
VERSION:2.0
PRODID:-//wp-events-plugin.com//7.2.3.1//EN
BEGIN:VEVENT
UID:398@carus-management.de
DTSTART:20180905T140000Z
DTEND:20180905T163000Z
DTSTAMP:20180813T140327Z
URL:https://www.carus-management.de/veranstaltungen/neu-msz-fb-reihe-neuro
 logie-multiple-sklerose/
SUMMARY:NEU-MSZ - FB Reihe Neurologie: Multiple Sklerose
DESCRIPTION:NOV Fortbildung UKD MS_2018_3_NEU
END:VEVENT
END:VCALENDAR