BEGIN:VCALENDAR
VERSION:2.0
PRODID:-//wp-events-plugin.com//7.2.3.1//EN
BEGIN:VEVENT
UID:767@carus-management.de
DTSTART;VALUE=DATE:20210114
DTEND;VALUE=DATE:20210115
DTSTAMP:20210106T102523Z
URL:https://www.carus-management.de/veranstaltungen/neu-msz-e-fallkonferen
 z-digital/
SUMMARY:NEU-MSZ  - E-Fallkonferenz (digital) - auf Februar 2021 verschoben\
 , Termin folgt
DESCRIPTION:Auf Februar 2021 verschoben - Termin folgt!
LOCATION:virtuelle Veranstaltung\,  \,  \, Deutschland
X-APPLE-STRUCTURED-LOCATION;VALUE=URI;X-ADDRESS= \,  \, Deutschland;X-APPLE
 -RADIUS=100;X-TITLE=virtuelle Veranstaltung:geo:0,0
END:VEVENT
END:VCALENDAR