BEGIN:VCALENDAR
VERSION:2.0
PRODID:-//wp-events-plugin.com//7.2.3.1//EN
BEGIN:VEVENT
UID:71@carus-management.de
DTSTART:20170202T220000Z
DTEND:20170203T220000Z
DTSTAMP:20180416T142708Z
URL:https://www.carus-management.de/veranstaltungen/neu-eeg-einfuehrungsku
 rs/
SUMMARY:NEU - EEG Einführungskurs
DESCRIPTION:EEG-Grundkurs03.-04.02.17\n\nOffenlegungSponsoren-EEG-Kurs03.-0
 4.02.17
END:VEVENT
END:VCALENDAR