BEGIN:VCALENDAR
VERSION:2.0
PRODID:-//wp-events-plugin.com//7.2.3.1//EN
BEGIN:VEVENT
UID:403@carus-management.de
DTSTART;VALUE=DATE:20180912
DTEND;VALUE=DATE:20180913
DTSTAMP:20180816T113529Z
URL:https://www.carus-management.de/veranstaltungen/neu-eeg-arbeitskreis/
SUMMARY:NEU - EEG Arbeitskreis
DESCRIPTION:Einladung EEG Arbeitskreis 09_2018
END:VEVENT
END:VCALENDAR