BEGIN:VCALENDAR
VERSION:2.0
PRODID:-//wp-events-plugin.com//7.2.3.1//EN
BEGIN:VEVENT
UID:1402@carus-management.de
DTSTART:20251126T183000Z
DTEND:20251126T201500Z
DTSTAMP:20251125T071043Z
URL:https://www.carus-management.de/veranstaltungen/neu-eeg-arbeitskreis-7
 /
SUMMARY:NEU - EEG-Arbeitskreis
DESCRIPTION:Offenlegung Sponsoren EEG-AK 26.11.25[fusion_builder_container 
 type="flex" hundred_percent="no" equal_height_columns="no" menu_anchor="" 
 hide_on_mobile="small-visibility\,medium-visibility\,large-visibility" cla
 ss="" id="" background_color="" background_image="" background_position="c
 enter center" background_repeat="no-repeat" fade="no" background_parallax=
 "none" parallax_speed="0.3" video_mp4="" video_webm="" video_ogv="" video_
 url="" video_aspect_ratio="16:9" video_loop="yes" video_mute="yes" overlay
 _color="" video_preview_image="" border_color="" border_style="solid" padd
 ing_top="" padding_bottom="" padding_left="" padding_right=""][fusion_buil
 der_row][fusion_builder_column type="1_1" layout="1_1" background_position
 ="left top" background_color="" border_color="" border_style="solid" borde
 r_position="all" spacing="yes" background_image="" background_repeat="no-r
 epeat" padding_top="" padding_right="" padding_bottom="" padding_left="" m
 argin_top="0px" margin_bottom="0px" class="" id="" animation_type="" anima
 tion_speed="0.3" animation_direction="left" hide_on_mobile="small-visibili
 ty\,medium-visibility\,large-visibility" center_content="no" last="true" m
 in_height="" hover_type="none" link="" border_sizes_top="" border_sizes_bo
 ttom="" border_sizes_left="" border_sizes_right="" first="true"][fusion_te
 xt]\n\nEinladung-Programm EEG Arbeitskreis November 2025\n\n[/fusion_text]
 [/fusion_builder_column][/fusion_builder_row][/fusion_builder_container]
LOCATION:Universitätsklinikum Dresden\, Fetscherstraße 74\, Dresden\, 013
 07\, Deutschland
X-APPLE-STRUCTURED-LOCATION;VALUE=URI;X-ADDRESS=Fetscherstraße 74\, Dresde
 n\, 01307\, Deutschland;X-APPLE-RADIUS=100;X-TITLE=Universitätsklinikum D
 resden:geo:0,0
END:VEVENT
END:VCALENDAR