BEGIN:VCALENDAR
VERSION:2.0
PRODID:-//wp-events-plugin.com//7.2.3.1//EN
BEGIN:VEVENT
UID:627@carus-management.de
DTSTART:20190828T160000Z
DTEND:20190828T183000Z
DTSTAMP:20190827T120018Z
URL:https://www.carus-management.de/veranstaltungen/neu-eeg-arbeitskreis-4
 /
SUMMARY:NEU - EEG Arbeitskreis
DESCRIPTION:Einladung EEG Arbeitskreis 2019_08
END:VEVENT
END:VCALENDAR