BEGIN:VCALENDAR
VERSION:2.0
PRODID:-//wp-events-plugin.com//7.2.3.1//EN
BEGIN:VEVENT
UID:644@carus-management.de
DTSTART;VALUE=DATE:20200125
DTEND;VALUE=DATE:20200126
DTSTAMP:20191220T111754Z
URL:https://www.carus-management.de/veranstaltungen/neu-5-dresdner-kolloqu
 ium-neuromuskulaere-erkrankungen/
SUMMARY:NEU - 5. Dresdner Kolloquium Neuromuskuläre  Erkrankungen
DESCRIPTION:5. Kolloquium Neuromuskuläre Erkrankungen 250120\n\nAnmeldefor
 mular 5. Kolloquium NME 25.01.2020
LOCATION:Universitätsklinikum Dresden\, Fetscherstraße 74\, Dresden\, 013
 07\, Deutschland
X-APPLE-STRUCTURED-LOCATION;VALUE=URI;X-ADDRESS=Fetscherstraße 74\, Dresde
 n\, 01307\, Deutschland;X-APPLE-RADIUS=100;X-TITLE=Universitätsklinikum D
 resden:geo:0,0
END:VEVENT
END:VCALENDAR