BEGIN:VCALENDAR
VERSION:2.0
PRODID:-//wp-events-plugin.com//7.2.3.1//EN
BEGIN:VEVENT
UID:970@carus-management.de
DTSTART:20220701T170000Z
DTEND:20220701T190000Z
DTSTAMP:20220613T092556Z
URL:https://www.carus-management.de/veranstaltungen/nct-ucc-benefizlauf-fo
 rtschritt-gegen-krebs/
SUMMARY:NCT/UCC- Benefizlauf "FORTSCHRITT gegen Krebs“
DESCRIPTION:Benefizlauf_01.07.2022
END:VEVENT
END:VCALENDAR