BEGIN:VCALENDAR
VERSION:2.0
PRODID:-//wp-events-plugin.com//7.2.3.1//EN
BEGIN:VEVENT
UID:470@carus-management.de
DTSTART;VALUE=DATE:20180906
DTEND;VALUE=DATE:20180908
DTSTAMP:20180816T121457Z
URL:https://www.carus-management.de/veranstaltungen/nch-symposium-models-a
 nd-imaging-in-translational-neuroscience/
SUMMARY:NCH - Symposium "Models and Imaging in Translational Neuroscience"
DESCRIPTION:symposium_flyer_models_imaging - 06.-07.09.18
END:VEVENT
END:VCALENDAR