BEGIN:VCALENDAR
VERSION:2.0
PRODID:-//wp-events-plugin.com//7.2.3.1//EN
BEGIN:VEVENT
UID:401@carus-management.de
DTSTART;VALUE=DATE:20180905
DTEND;VALUE=DATE:20180906
DTSTAMP:20180702T085507Z
URL:https://www.carus-management.de/veranstaltungen/nch-klinischer-abend-p
 eriphere-nerven/
SUMMARY:NCH - Klinischer Abend: Periphere Nerven...
DESCRIPTION:
END:VEVENT
END:VCALENDAR