BEGIN:VCALENDAR
VERSION:2.0
PRODID:-//wp-events-plugin.com//7.2.3.1//EN
BEGIN:VEVENT
UID:628@carus-management.de
DTSTART:20191116T070000Z
DTEND:20191116T110000Z
DTSTAMP:20190916T094714Z
URL:https://www.carus-management.de/veranstaltungen/mkg-21-dresdener-sympo
 sium-der-muendige-patient/
SUMMARY:MKG - 21. Dresdener Symposium „Der mündige Patient“
DESCRIPTION:Flyer_21. DD Symposium 16.11.19
END:VEVENT
END:VCALENDAR