BEGIN:VCALENDAR
VERSION:2.0
PRODID:-//wp-events-plugin.com//7.2.3.1//EN
BEGIN:VEVENT
UID:390@carus-management.de
DTSTART:20180704T130000Z
DTEND:20180704T160000Z
DTSTAMP:20180702T083058Z
URL:https://www.carus-management.de/veranstaltungen/mk3-symposium-seltene-
 knochenerkrankungen/
SUMMARY:MK3 - Symposium Seltene Knochenerkrankungen
DESCRIPTION:Programm_SelteneKnochenerkrankungen_final
END:VEVENT
END:VCALENDAR