BEGIN:VCALENDAR
VERSION:2.0
PRODID:-//wp-events-plugin.com//7.2.3.1//EN
BEGIN:VEVENT
UID:582@carus-management.de
DTSTART;VALUE=DATE:20190621
DTEND;VALUE=DATE:20190622
DTSTAMP:20190528T111817Z
URL:https://www.carus-management.de/veranstaltungen/mk3-seminar-fuer-patie
 nten-nach-ntx/
SUMMARY:MK3 - Seminar für Patienten nach NTx
DESCRIPTION:Flyer Patientenseminar 21.06.2019_final
END:VEVENT
END:VCALENDAR