BEGIN:VCALENDAR
VERSION:2.0
PRODID:-//wp-events-plugin.com//7.2.3.1//EN
BEGIN:VEVENT
UID:464@carus-management.de
DTSTART;VALUE=DATE:20181201
DTEND;VALUE=DATE:20181202
DTSTAMP:20181123T085404Z
URL:https://www.carus-management.de/veranstaltungen/mk3-seminar-fuer-patie
 nten-der-warteliste/
SUMMARY:MK3 - Seminar für Patienten der Warteliste
DESCRIPTION:Flyer Patientenseminar 01.12.2018
LOCATION:Universitätsklinikum Dresden\, Fetscherstraße 74\, Dresden\, 013
 07\, Deutschland
X-APPLE-STRUCTURED-LOCATION;VALUE=URI;X-ADDRESS=Fetscherstraße 74\, Dresde
 n\, 01307\, Deutschland;X-APPLE-RADIUS=100;X-TITLE=Universitätsklinikum D
 resden:geo:0,0
END:VEVENT
END:VCALENDAR