BEGIN:VCALENDAR
VERSION:2.0
PRODID:-//wp-events-plugin.com//7.2.3.1//EN
BEGIN:VEVENT
UID:878@carus-management.de
DTSTART;VALUE=DATE:20210801
DTEND;VALUE=DATE:20210813
DTSTAMP:20210723T080757Z
URL:https://www.carus-management.de/veranstaltungen/mk3-patientenseminare-
 nierentransplantation-und-die-zeit-mit-der-neuen-niere-digital/
SUMMARY:MK3 - Patientenseminare "Nierentransplantation" und "Die Zeit mit d
 er neuen Niere" - virtuell ab 15.07.2021
DESCRIPTION:Die Vorträge zur Veranstaltung stehen ab 15.07.2021 online\, s
 iehe Programmflyer.\n\nEine Abschlusskonferenz findet dazu online im Septe
 mber 2021 statt. Der Termin wird in Kürze veröffentlicht.\n\nFlyer Patie
 ntenseminare_ab_15.07.21
END:VEVENT
END:VCALENDAR