BEGIN:VCALENDAR
VERSION:2.0
PRODID:-//wp-events-plugin.com//7.2.3.1//EN
BEGIN:VEVENT
UID:529@carus-management.de
DTSTART;VALUE=DATE:20190406
DTEND;VALUE=DATE:20190407
DTSTAMP:20190320T110600Z
URL:https://www.carus-management.de/veranstaltungen/mk3-ntx-tagung-17-dres
 dner-nierentransplantationstagung/
SUMMARY:MK3 - NTx-Tagung (17. Dresdner Nierentransplantationstagung)
DESCRIPTION:finaler Flyer NTx-Tagung 06.04.19_2
END:VEVENT
END:VCALENDAR