BEGIN:VCALENDAR
VERSION:2.0
PRODID:-//wp-events-plugin.com//7.2.3.1//EN
BEGIN:VEVENT
UID:696@carus-management.de
DTSTART;VALUE=DATE:20200324
DTEND;VALUE=DATE:20200325
DTSTAMP:20200318T132026Z
URL:https://www.carus-management.de/veranstaltungen/mk3-nephrologischer-ab
 end-akute-nierenschaedigung-nach-nierentransplantation/
SUMMARY:MK3 - Nephrologischer Abend "Akute Nierenschädigung nach Nierentra
 nsplantation"  -  ABGESAGT!
DESCRIPTION:Einladung Nephrologischer Abend 24.03.2020\n\nDie Veranstaltung
  fällt aus!
LOCATION:Universitätsklinikum Dresden\, Fetscherstraße 74\, Dresden\, 013
 07\, Deutschland
X-APPLE-STRUCTURED-LOCATION;VALUE=URI;X-ADDRESS=Fetscherstraße 74\, Dresde
 n\, 01307\, Deutschland;X-APPLE-RADIUS=100;X-TITLE=Universitätsklinikum D
 resden:geo:0,0
END:VEVENT
END:VCALENDAR