BEGIN:VCALENDAR
VERSION:2.0
PRODID:-//wp-events-plugin.com//7.2.3.1//EN
BEGIN:VEVENT
UID:569@carus-management.de
DTSTART;VALUE=DATE:20190409
DTEND;VALUE=DATE:20190410
DTSTAMP:20190326T125419Z
URL:https://www.carus-management.de/veranstaltungen/mk3-nephrologischer-ab
 end-9/
SUMMARY:MK3 - Nephrologischer Abend
DESCRIPTION:Einladung Nephrologischer Abend 09.04.2019
END:VEVENT
END:VCALENDAR