BEGIN:VCALENDAR
VERSION:2.0
PRODID:-//wp-events-plugin.com//7.2.3.1//EN
BEGIN:VEVENT
UID:759@carus-management.de
DTSTART;VALUE=DATE:20201208
DTEND;VALUE=DATE:20201209
DTSTAMP:20201120T122829Z
URL:https://www.carus-management.de/veranstaltungen/mk3-nephrologischer-ab
 end-19/
SUMMARY:MK3 - Nephrologischer Abend - digital
DESCRIPTION:Einladung - Nephrologischer Abend 08.12.2020_virtuell
LOCATION:virtuelle Veranstaltung\,  \,  \, Deutschland
X-APPLE-STRUCTURED-LOCATION;VALUE=URI;X-ADDRESS= \,  \, Deutschland;X-APPLE
 -RADIUS=100;X-TITLE=virtuelle Veranstaltung:geo:0,0
END:VEVENT
END:VCALENDAR