BEGIN:VCALENDAR
VERSION:2.0
PRODID:-//wp-events-plugin.com//7.2.3.1//EN
BEGIN:VEVENT
UID:593@carus-management.de
DTSTART;VALUE=DATE:20191116
DTEND;VALUE=DATE:20191117
DTSTAMP:20191113T084938Z
URL:https://www.carus-management.de/veranstaltungen/mk3-dd-zusammenfassung
 -und-wertung-kidney-week-2018-u-tagung-saechsischer-nephrologen-e-v/
SUMMARY:MK3 - DD Zusammenfassung und Wertung - Kidney Week 2018 u. Tagung S
 ächsischer Nephrologen e. V.
DESCRIPTION:Flyer post-ASN 2019_ final
END:VEVENT
END:VCALENDAR