BEGIN:VCALENDAR
VERSION:2.0
PRODID:-//wp-events-plugin.com//7.2.3.1//EN
BEGIN:VEVENT
UID:738@carus-management.de
DTSTART;VALUE=DATE:20201107
DTEND;VALUE=DATE:20201108
DTSTAMP:20201111T095908Z
URL:https://www.carus-management.de/veranstaltungen/mk3-dd-zusammenfassung
 -und-wertung-kidney-week-2018-u-tagung-saechs-nephr-e-v/
SUMMARY:MK3 - DD Zusammenfassung und Wertung - Kidney Week 2018 u.Tagung S
 ächs. Nephr. e. V. - digital
DESCRIPTION:Diese Veranstaltung wird aufgrund des Veranstaltungsverbotes de
 s Universitätsklinikums Dresden ab 01.11.2020 rein virtuell stattfinden.
  Bitte senden Sie eine Mail an Frau Dollfus (susanne.dollfus@ukdd.de)\, u
 m den Link zur virtuellen Teilnahme zu erhalten.\n\nFlyer - post-ASN 2020
LOCATION:virtuelle Veranstaltung\,  \,  \, Deutschland
X-APPLE-STRUCTURED-LOCATION;VALUE=URI;X-ADDRESS= \,  \, Deutschland;X-APPLE
 -RADIUS=100;X-TITLE=virtuelle Veranstaltung:geo:0,0
END:VEVENT
END:VCALENDAR