BEGIN:VCALENDAR
VERSION:2.0
PRODID:-//wp-events-plugin.com//7.2.3.1//EN
BEGIN:VEVENT
UID:617@carus-management.de
DTSTART:20190820T140000Z
DTEND:20190820T163000Z
DTSTAMP:20190709T092256Z
URL:https://www.carus-management.de/veranstaltungen/mk3-1-dresdner-lebends
 pende-patientenseminar/
SUMMARY:MK3 - 1. Dresdner Lebendspende-Patientenseminar
DESCRIPTION:aktualisierter Flyer 1. Dresdner Lebendspende-Patientenseminar 
 20.08.19
LOCATION:Universitätsklinikum Dresden\, Fetscherstraße 74\, Dresden\, 013
 07\, Deutschland
X-APPLE-STRUCTURED-LOCATION;VALUE=URI;X-ADDRESS=Fetscherstraße 74\, Dresde
 n\, 01307\, Deutschland;X-APPLE-RADIUS=100;X-TITLE=Universitätsklinikum D
 resden:geo:0,0
END:VEVENT
END:VCALENDAR