BEGIN:VCALENDAR
VERSION:2.0
PRODID:-//wp-events-plugin.com//7.2.3.1//EN
BEGIN:VEVENT
UID:26@carus-management.de
DTSTART:20180113T080000Z
DTEND:20180113T130000Z
DTSTAMP:20180416T121224Z
URL:https://www.carus-management.de/veranstaltungen/mk1-pulmonal-arteriell
 e-hypertonie/
SUMMARY:MK1 - Pulmonal arterielle Hypertonie
DESCRIPTION:13.01.2017InternistischerErfahrungsaustauschderPHinTheorieundPr
 axis
END:VEVENT
END:VCALENDAR