BEGIN:VCALENDAR
VERSION:2.0
PRODID:-//wp-events-plugin.com//7.2.3.1//EN
BEGIN:VEVENT
UID:523@carus-management.de
DTSTART;VALUE=DATE:20190511
DTEND;VALUE=DATE:20190512
DTSTAMP:20190215T085708Z
URL:https://www.carus-management.de/veranstaltungen/mk1-onkologisches-inte
 rdisziplinaeres-elbforum/
SUMMARY:MK1 - Onkologisches Interdisziplinäres ElbForum
DESCRIPTION:Flyer Onkolog. Interdisziplinäres ElbForum 11.05.19
LOCATION:Courtyard by Marriott Hotel Dresden\, Stauffenbergallee 25a\, Dres
 den\, 1099\, Deutschland
X-APPLE-STRUCTURED-LOCATION;VALUE=URI;X-ADDRESS=Stauffenbergallee 25a\, Dre
 sden\, 1099\, Deutschland;X-APPLE-RADIUS=100;X-TITLE=Courtyard by Marriott
  Hotel Dresden:geo:0,0
END:VEVENT
END:VCALENDAR