BEGIN:VCALENDAR
VERSION:2.0
PRODID:-//wp-events-plugin.com//7.2.3.1//EN
BEGIN:VEVENT
UID:473@carus-management.de
DTSTART:20181114T150000Z
DTEND:20181114T181500Z
DTSTAMP:20181106T142025Z
URL:https://www.carus-management.de/veranstaltungen/mk-iii-aktuelle-aspekt
 e-2018-in-der-behandlung-des-diabetes-mellitus/
SUMMARY:MK III - Aktuelle Aspekte 2018 in der Behandlung des Diabetes melli
 tus
DESCRIPTION:Aktuelle Aspekte 14.11.2018
LOCATION:Universitätsklinikum Dresden\, Fetscherstraße 74\, Dresden\, 013
 07\, Deutschland
X-APPLE-STRUCTURED-LOCATION;VALUE=URI;X-ADDRESS=Fetscherstraße 74\, Dresde
 n\, 01307\, Deutschland;X-APPLE-RADIUS=100;X-TITLE=Universitätsklinikum D
 resden:geo:0,0
END:VEVENT
END:VCALENDAR