BEGIN:VCALENDAR
VERSION:2.0
PRODID:-//wp-events-plugin.com//7.2.3.1//EN
BEGIN:VEVENT
UID:98@carus-management.de
DTSTART:20170408T070000Z
DTEND:20170408T114500Z
DTSTAMP:20180417T064333Z
URL:https://www.carus-management.de/veranstaltungen/mk-3-15-dresdner-niere
 ntransplantationstagung/
SUMMARY:MK 3 - 15. Dresdner Nierentransplantationstagung
DESCRIPTION:FlyerNierentransplantationstagung2017_final
END:VEVENT
END:VCALENDAR