BEGIN:VCALENDAR
VERSION:2.0
PRODID:-//wp-events-plugin.com//7.2.3.1//EN
BEGIN:VEVENT
UID:1292@carus-management.de
DTSTART:20250828T123000Z
DTEND:20250828T133000Z
DTSTAMP:20250116T104233Z
URL:https://www.carus-management.de/veranstaltungen/mk-1-basiskurs-innere-
 medizin-immundefekte/
SUMMARY:Basisfortbildungskurs Innere Medizin: Immundefekte
DESCRIPTION:28.08.2025 Programm
LOCATION:Universitätsklinikum Dresden\, Fetscherstraße 74\, Dresden\, 013
 07\, Deutschland
X-APPLE-STRUCTURED-LOCATION;VALUE=URI;X-ADDRESS=Fetscherstraße 74\, Dresde
 n\, 01307\, Deutschland;X-APPLE-RADIUS=100;X-TITLE=Universitätsklinikum D
 resden:geo:0,0
END:VEVENT
END:VCALENDAR