BEGIN:VCALENDAR
VERSION:2.0
PRODID:-//wp-events-plugin.com//7.2.3.1//EN
BEGIN:VEVENT
UID:554@carus-management.de
DTSTART;VALUE=DATE:20191122
DTEND;VALUE=DATE:20191124
DTSTAMP:20191101T102101Z
URL:https://www.carus-management.de/veranstaltungen/mk-1-28-dresdner-tagun
 g-f-gastroenterologie-und-viszeralchirurgie-28-dtgv/
SUMMARY:MK 1 - 28. Dresdner Tagung f. Gastroenterologie und Viszeralchirurg
 ie (28. DTGV)
DESCRIPTION:Programm_final\n\nOffenlegung Sponsoren - 28. DTGV 22.-23.11.19
LOCATION:CRTD - Center for Regenerative Therapies Dresden\, Fetscherstr. 10
 5\, Dresden\, Sachsen\, 01307\, Deutschland
X-APPLE-STRUCTURED-LOCATION;VALUE=URI;X-ADDRESS=Fetscherstr. 105\, Dresden\
 , Sachsen\, 01307\, Deutschland;X-APPLE-RADIUS=100;X-TITLE=CRTD - Center f
 or Regenerative Therapies Dresden:geo:0,0
END:VEVENT
END:VCALENDAR