BEGIN:VCALENDAR
VERSION:2.0
PRODID:-//wp-events-plugin.com//7.2.3.1//EN
BEGIN:VEVENT
UID:396@carus-management.de
DTSTART;VALUE=DATE:20180830
DTEND;VALUE=DATE:20180901
DTSTAMP:20180702T084251Z
URL:https://www.carus-management.de/veranstaltungen/mf-vir-foamy-virus-mee
 ting-fv-meeting/
SUMMARY:MF-VIR - Foamy Virus Meeting (FV Meeting)
DESCRIPTION:https://tu-dresden.de/med/mf/virologie/foamyvirusmeeting2018?se
 t_language=en\n\n&nbsp\;
END:VEVENT
END:VCALENDAR