BEGIN:VCALENDAR
VERSION:2.0
PRODID:-//wp-events-plugin.com//7.2.3.1//EN
BEGIN:VEVENT
UID:493@carus-management.de
DTSTART:20181212T160000Z
DTEND:20181212T180000Z
DTSTAMP:20181210T145907Z
URL:https://www.carus-management.de/veranstaltungen/kopfschmerzsymposium/
SUMMARY:Kopfschmerzsymposium
DESCRIPTION:Offenlegung Sponsoren - Kopfschmerz 12.12.18\n\nKopfschmerzSymp
 osium 12.12.18
END:VEVENT
END:VCALENDAR