BEGIN:VCALENDAR
VERSION:2.0
PRODID:-//wp-events-plugin.com//7.2.3.1//EN
BEGIN:VEVENT
UID:411@carus-management.de
DTSTART:20180929T070000Z
DTEND:20180929T153000Z
DTSTAMP:20180712T084051Z
URL:https://www.carus-management.de/veranstaltungen/kjp-22-jahrestagung-de
 r-deutschen-gesellschaft-fuer-zwangserkrankungen/
SUMMARY:KJP - 22. Jahrestagung der Deutschen Gesellschaft für Zwangserkran
 kungen
DESCRIPTION:Einladung_DGZ_Jahrestagung_29.09.2018
END:VEVENT
END:VCALENDAR