BEGIN:VCALENDAR
VERSION:2.0
PRODID:-//wp-events-plugin.com//7.2.3.1//EN
BEGIN:VEVENT
UID:965@carus-management.de
DTSTART:20220916T130000Z
DTEND:20220916T181500Z
DTSTAMP:20220719T100537Z
URL:https://www.carus-management.de/veranstaltungen/kik-spz-neuropaediatri
 sches-symposium-anwendung-neuer-therapien-in-der-kinderneurologie/
SUMMARY:KIK-SPZ - Neuropädiatrisches Symposium "Anwendung neuer Therapien 
 in der Kinderneurologie"
DESCRIPTION:Neuropädiatrisches Symposium_16.09.2022\n\nAnmeldung
LOCATION:Universitätsklinikum Dresden\, Fetscherstraße 74\, Dresden\, 013
 07\, Deutschland
X-APPLE-STRUCTURED-LOCATION;VALUE=URI;X-ADDRESS=Fetscherstraße 74\, Dresde
 n\, 01307\, Deutschland;X-APPLE-RADIUS=100;X-TITLE=Universitätsklinikum D
 resden:geo:0,0
END:VEVENT
END:VCALENDAR