BEGIN:VCALENDAR
VERSION:2.0
PRODID:-//wp-events-plugin.com//7.2.3.1//EN
BEGIN:VEVENT
UID:903@carus-management.de
DTSTART:20220205T090000Z
DTEND:20220205T140000Z
DTSTAMP:20211108T124734Z
URL:https://www.carus-management.de/veranstaltungen/kik-spz-cannabis-in-de
 r-kinder-und-jugendmedizin/
SUMMARY:KIK-SPZ - Neuropädiatrisches Symposium: Cannabis in der Kinder- un
 d Jugendmedizin - abgesagt
DESCRIPTION:Aufgrund der aktuellen Situation wird die Veranstaltung vorauss
 ichtlich auf Juni/Juli 2022 verschoben.
LOCATION:Universitätsklinikum Dresden\, Fetscherstraße 74\, Dresden\, 013
 07\, Deutschland
X-APPLE-STRUCTURED-LOCATION;VALUE=URI;X-ADDRESS=Fetscherstraße 74\, Dresde
 n\, 01307\, Deutschland;X-APPLE-RADIUS=100;X-TITLE=Universitätsklinikum D
 resden:geo:0,0
END:VEVENT
END:VCALENDAR