BEGIN:VCALENDAR
VERSION:2.0
PRODID:-//wp-events-plugin.com//7.2.3.1//EN
BEGIN:VEVENT
UID:506@carus-management.de
DTSTART;VALUE=DATE:20190214
DTEND;VALUE=DATE:20190215
DTSTAMP:20190121T112014Z
URL:https://www.carus-management.de/veranstaltungen/kik-neugeborenen-scree
 ning-und-seltene-erkrankungen/
SUMMARY:KIK - Neugeborenen Screening und Seltene Erkrankungen
DESCRIPTION:Flyer_final Neugeborenenscreening...14.02.19
LOCATION:Universitätsklinikum Dresden\, Fetscherstraße 74\, Dresden\, 013
 07\, Deutschland
X-APPLE-STRUCTURED-LOCATION;VALUE=URI;X-ADDRESS=Fetscherstraße 74\, Dresde
 n\, 01307\, Deutschland;X-APPLE-RADIUS=100;X-TITLE=Universitätsklinikum D
 resden:geo:0,0
END:VEVENT
END:VCALENDAR