BEGIN:VCALENDAR
VERSION:2.0
PRODID:-//wp-events-plugin.com//7.2.3.1//EN
BEGIN:VEVENT
UID:314@carus-management.de
DTSTART;VALUE=DATE:20161012
DTEND;VALUE=DATE:20161014
DTSTAMP:20180420T081039Z
URL:https://www.carus-management.de/veranstaltungen/kik-expertentagung-in-
 wuerzburg/
SUMMARY:KIK - Expertentagung in Würzburg
DESCRIPTION:
END:VEVENT
END:VCALENDAR