BEGIN:VCALENDAR
VERSION:2.0
PRODID:-//wp-events-plugin.com//7.2.3.1//EN
BEGIN:VEVENT
UID:618@carus-management.de
DTSTART:20190911T150000Z
DTEND:20190911T180000Z
DTSTAMP:20190705T102438Z
URL:https://www.carus-management.de/veranstaltungen/kik-8-gerinnungssprech
 stunde/
SUMMARY:KIK - 8. Gerinnungssprechstunde
DESCRIPTION:Gerinnungssprechstunde_2019_Flyer_final
LOCATION:Universitätsklinikum Dresden\, Fetscherstraße 74\, Dresden\, 013
 07\, Deutschland
X-APPLE-STRUCTURED-LOCATION;VALUE=URI;X-ADDRESS=Fetscherstraße 74\, Dresde
 n\, 01307\, Deutschland;X-APPLE-RADIUS=100;X-TITLE=Universitätsklinikum D
 resden:geo:0,0
END:VEVENT
END:VCALENDAR