BEGIN:VCALENDAR
VERSION:2.0
PRODID:-//wp-events-plugin.com//7.2.3.1//EN
BEGIN:VEVENT
UID:410@carus-management.de
DTSTART:20180926T150000Z
DTEND:20180926T180000Z
DTSTAMP:20180702T090304Z
URL:https://www.carus-management.de/veranstaltungen/kik-7-dresdner-gerinnu
 ngssprechstunde/
SUMMARY:KIK - 7. Dresdner Gerinnungssprechstunde
DESCRIPTION:FlyerGerinnungssprechstunde-final
END:VEVENT
END:VCALENDAR