BEGIN:VCALENDAR
VERSION:2.0
PRODID:-//wp-events-plugin.com//7.2.3.1//EN
BEGIN:VEVENT
UID:678@carus-management.de
DTSTART;VALUE=DATE:20200115
DTEND;VALUE=DATE:20200116
DTSTAMP:20200113T130332Z
URL:https://www.carus-management.de/veranstaltungen/kik-10-kinderpneumolog
 isches-allergologisches-update/
SUMMARY:KIK - 10. Kinderpneumologisches / Allergologisches Update
DESCRIPTION:2020_01_15 Einladung 10. Pulmolog.-Allergolog. Update
LOCATION:Hotel Elbflorenz Dresden\, Rosenstraße\, Dresden\, Deutschland
X-APPLE-STRUCTURED-LOCATION;VALUE=URI;X-ADDRESS=Rosenstraße\, Dresden\, De
 utschland;X-APPLE-RADIUS=100;X-TITLE=Hotel Elbflorenz Dresden:geo:0,0
END:VEVENT
END:VCALENDAR