BEGIN:VCALENDAR
VERSION:2.0
PRODID:-//wp-events-plugin.com//7.2.3.1//EN
BEGIN:VEVENT
UID:640@carus-management.de
DTSTART;VALUE=DATE:20200118
DTEND;VALUE=DATE:20200119
DTSTAMP:20200110T124831Z
URL:https://www.carus-management.de/veranstaltungen/jahresauftakt-tagung-2
 020-des-rheumazentrums-dresden-chemnitz/
SUMMARY:MK3 - Jahresauftakt-Tagung 2020 des Rheumazentrums Dresden-Chemnitz
DESCRIPTION:Programm final - Jahresauftakt Rheumazentrum 18.1.20
LOCATION:Universitätsklinikum Dresden\, Fetscherstraße 74\, Dresden\, 013
 07\, Deutschland
X-APPLE-STRUCTURED-LOCATION;VALUE=URI;X-ADDRESS=Fetscherstraße 74\, Dresde
 n\, 01307\, Deutschland;X-APPLE-RADIUS=100;X-TITLE=Universitätsklinikum D
 resden:geo:0,0
END:VEVENT
END:VCALENDAR