BEGIN:VCALENDAR
VERSION:2.0
PRODID:-//wp-events-plugin.com//7.2.3.1//EN
BEGIN:VEVENT
UID:488@carus-management.de
DTSTART;VALUE=DATE:20181215
DTEND;VALUE=DATE:20181216
DTSTAMP:20181211T104557Z
URL:https://www.carus-management.de/veranstaltungen/isimed-simulatortraini
 ng-zwischenfallmanagement-in-der-anaesthesie/
SUMMARY:ISIMED - Simulatortraining Zwischenfallmanagement in der Anästhesi
 e
DESCRIPTION:Flyer Simulatortraining AbbVie 15.12.2018\n\nOffenlegung Sponso
 ren - CRM-Kurs AbbVie 15.12.18
END:VEVENT
END:VCALENDAR