BEGIN:VCALENDAR
VERSION:2.0
PRODID:-//wp-events-plugin.com//7.2.3.1//EN
BEGIN:VEVENT
UID:589@carus-management.de
DTSTART;VALUE=DATE:20190930
DTEND;VALUE=DATE:20191001
DTSTAMP:20190409T125016Z
URL:https://www.carus-management.de/veranstaltungen/isimed-simulatortraini
 ng-zwischenfallmanagement-crm-erwachsene/
SUMMARY:ISIMED - Simulatortraining Zwischenfallmanagement (CRM Erwachsene)
DESCRIPTION:
END:VEVENT
END:VCALENDAR