BEGIN:VCALENDAR
VERSION:2.0
PRODID:-//wp-events-plugin.com//7.2.3.1//EN
BEGIN:VEVENT
UID:570@carus-management.de
DTSTART;VALUE=DATE:20190506
DTEND;VALUE=DATE:20190507
DTSTAMP:20190320T111313Z
URL:https://www.carus-management.de/veranstaltungen/isimed-simulatortraini
 ng-paediatrische-notfaelle-2/
SUMMARY:ISIMED - Simulatortraining pädiatrische Notfälle
DESCRIPTION:
END:VEVENT
END:VCALENDAR