BEGIN:VCALENDAR
VERSION:2.0
PRODID:-//wp-events-plugin.com//7.2.3.1//EN
BEGIN:VEVENT
UID:397@carus-management.de
DTSTART:20180831T100000Z
DTEND:20180901T140000Z
DTSTAMP:20180824T111612Z
URL:https://www.carus-management.de/veranstaltungen/isimed-novo-nordisk-si
 mulatortraining-zum-zwischenfallmanagement-in-der-anaesthesie/
SUMMARY:ISIMED - Novo Nordisk Simulatortraining zum Zwischenfallmanagement 
 in der Anästhesie
DESCRIPTION:Offenlegung Sponsoren - CRM-Kurs Novo Nordisk 31.08.-01.09.18\n
 \nFlyer-SimulatortrainingzumZwischenfallmanagementinderAnsthesie31.08.-01.
 09.18
LOCATION:Universitätsklinikum Dresden\, Fetscherstraße 74\, Dresden\, 013
 07\, Deutschland
X-APPLE-STRUCTURED-LOCATION;VALUE=URI;X-ADDRESS=Fetscherstraße 74\, Dresde
 n\, 01307\, Deutschland;X-APPLE-RADIUS=100;X-TITLE=Universitätsklinikum D
 resden:geo:0,0
END:VEVENT
END:VCALENDAR