BEGIN:VCALENDAR
VERSION:2.0
PRODID:-//wp-events-plugin.com//7.2.3.1//EN
BEGIN:VEVENT
UID:579@carus-management.de
DTSTART;VALUE=DATE:20190517
DTEND;VALUE=DATE:20190519
DTSTAMP:20190514T112034Z
URL:https://www.carus-management.de/veranstaltungen/isimed-novo-nordisk-si
 mulatortraining-zum-zwischenfallmanagement-in-der-anaesthesie-3/
SUMMARY:ISIMED - Novo Nordisk Simulatortraining zum Zwischenfallmanagement 
 in der Anästhesie
DESCRIPTION:Simulatortraining 17.+18.05.2019\n\nOffenlegung Sponsoren - CRM
 -Kurs Novo Nordisk 17.-18.05.19
END:VEVENT
END:VCALENDAR