BEGIN:VCALENDAR
VERSION:2.0
PRODID:-//wp-events-plugin.com//7.2.3.1//EN
BEGIN:VEVENT
UID:73@carus-management.de
DTSTART:20170205T220000Z
DTEND:20170205T220000Z
DTSTAMP:20180416T142816Z
URL:https://www.carus-management.de/veranstaltungen/isimed-grundlagen-psyc
 hosoziale-notfallversorgung/
SUMMARY:ISIMED - Grundlagen psychosoziale Notfallversorgung
DESCRIPTION:
END:VEVENT
END:VCALENDAR